BEGIN:VCALENDAR
VERSION:2.0
PRODID:-//SACRe, le Laboratoire - ECPv6.15.15//NONSGML v1.0//EN
CALSCALE:GREGORIAN
METHOD:PUBLISH
X-WR-CALNAME:SACRe, le Laboratoire
X-ORIGINAL-URL:https://sacre.psl.eu
X-WR-CALDESC:Évènements pour SACRe, le Laboratoire
REFRESH-INTERVAL;VALUE=DURATION:PT1H
X-Robots-Tag:noindex
X-PUBLISHED-TTL:PT1H
BEGIN:VTIMEZONE
TZID:Europe/Paris
BEGIN:DAYLIGHT
TZOFFSETFROM:+0100
TZOFFSETTO:+0200
TZNAME:CEST
DTSTART:20180325T010000
END:DAYLIGHT
BEGIN:STANDARD
TZOFFSETFROM:+0200
TZOFFSETTO:+0100
TZNAME:CET
DTSTART:20181028T010000
END:STANDARD
BEGIN:DAYLIGHT
TZOFFSETFROM:+0100
TZOFFSETTO:+0200
TZNAME:CEST
DTSTART:20190331T010000
END:DAYLIGHT
BEGIN:STANDARD
TZOFFSETFROM:+0200
TZOFFSETTO:+0100
TZNAME:CET
DTSTART:20191027T010000
END:STANDARD
BEGIN:DAYLIGHT
TZOFFSETFROM:+0100
TZOFFSETTO:+0200
TZNAME:CEST
DTSTART:20200329T010000
END:DAYLIGHT
BEGIN:STANDARD
TZOFFSETFROM:+0200
TZOFFSETTO:+0100
TZNAME:CET
DTSTART:20201025T010000
END:STANDARD
END:VTIMEZONE
BEGIN:VEVENT
DTSTART;TZID=Europe/Paris:20191125T090000
DTEND;TZID=Europe/Paris:20191125T170000
DTSTAMP:20260421T004121
CREATED:20191125T114215Z
LAST-MODIFIED:20191125T114215Z
UID:14050-1574672400-1574701200@sacre.psl.eu
SUMMARY:Forme\, Dispositif ou Circonstance : histoires et pratiques de l’exposition
DESCRIPTION:Les Beaux-Arts de Paris\, en partenariat avec La Fémis\, dans le cadre du programme doctoral SACRe/PSL\, organisent deux journées de rencontres autour de l’histoire et des pratiques contemporaines de l’exposition. L’importance croissante de l’exposition en tant que forme et dispositif\, voire en tant qu’œuvre à part entière\, son ampleur dans le discours sur l’art\, ainsi que les développements des recherches sur l’histoire des expositions sont les moteurs de ces deux journées. \nParcourir le programme \nJournée 1 – Beaux-Arts de Paris\nAmphithéâtre d’Honneur\, mercredi 4 décembre 2019 \nDe la même manière qu’il existe différents niveaux d’organisation en biologie — la cellule\, le tissu\, l’organe — il y aurait\, dans l’art\, différentes échelles de production\, d’observation et d’analyse. L’histoire de l’art s’est longtemps jouée à l’échelle des œuvres\, des artistes ou des mouvements artistiques. Or\, depuis une vingtaine d’années\, de nombreuses études ont vu passer l’exposition d’une position de second plan à un rôle plus central dans lequel lui est reconnu un pouvoir d’inflexion sur l’œuvre et concédé un statut de technique\, de genre\, voire de forme artistique autonome qui l’arrache à sa passivité ou à sa neutralité supposées.\nEn retour\, l’œuvre d’art s’en trouve relativisée et son existence pleine semble remise en cause hors des\ncirconstances de son exposition. Cette perspective renouvelée — qui promet l’articulation de l’histoire de l’art aux conditions matérielles\, institutionnelles ou culturelles de sa production — fait de l’exposition le site où l’histoire de l’art s’écrit et s’éprouve. L’exposition est devenue\, dans cette courte période\, la catégorie hégémonique par laquelle l’art est désigné\, diffusé ou pensé. Les historiens prennent désormais les expositions pour sujets d’étude\, les artistes et les commissaires en rejouent les grands modèles pendant que les musées entreprennent le recensement de véritables catalogues raisonnés de leurs expositions comme ils le faisaient jusque-là pour leurs collections.\nPour approcher collectivement cette “échelle” de l’exposition\, sont conviés aux Beaux-Arts de Paris six personnalités qui ont toutes abordé l’exposition sous un angle particulier : l’historien de l’art Vincent Normand dresse une histoire parallèle des formats d’exposition et des catégories de pensée de la modernité occidentale. Deux conservatrices de musée\, Anna Pravdová et Penelope Curtis\, reviennent sur deux projets récents qui consistent à écrire ou à réécrire une histoire de l’art fondée\, plutôt que sur un principe de tamis rétrospectif\, sur les circonstances institutionnelles et muséographiques d’émergence des œuvres. Les artistes Isabelle Cornaro\, Benoît Maire et Harald Thys ont récemment été scénographes ou commissaires de leur propre travail ou de celui d’autres artistes\, designers\, artisans ou architectes. L’exposition apparaît chez eux comme une technique spéculative\, au-delà d’un simple mode de présentation. Elle s’y déploie sous ses différentes facettes — comme forme\, comme dispositif\, comme circonstance — sur une ligne de partage dynamique entre l’œuvre\, ses conditions d’existence et son cadre d’apparition. \nJournée 2 – La Fémis\nEn raison des grèves annoncées\, la journée initialement prévue le 5 décembre est reportée à une date ultérieure en janvier ou février 2020.
URL:https://sacre.psl.eu/evenements/forme-dispositif-ou-circonstance-histoires-et-pratiques-de-lexposition/
LOCATION:Beaux-Arts de Paris\, 14\, rue Bonaparte\, Paris\, 75006\, France
CATEGORIES:colloque,Evenement
ATTACH;FMTTYPE=image/jpeg:https://sacre.psl.eu/wp-content/uploads/2019/11/57.jpg
END:VEVENT
END:VCALENDAR