BEGIN:VCALENDAR
VERSION:2.0
PRODID:-//SACRe, le Laboratoire - ECPv6.15.15//NONSGML v1.0//EN
CALSCALE:GREGORIAN
METHOD:PUBLISH
X-WR-CALNAME:SACRe, le Laboratoire
X-ORIGINAL-URL:https://sacre.psl.eu
X-WR-CALDESC:Évènements pour SACRe, le Laboratoire
REFRESH-INTERVAL;VALUE=DURATION:PT1H
X-Robots-Tag:noindex
X-PUBLISHED-TTL:PT1H
BEGIN:VTIMEZONE
TZID:Europe/Paris
BEGIN:DAYLIGHT
TZOFFSETFROM:+0100
TZOFFSETTO:+0200
TZNAME:CEST
DTSTART:20180325T010000
END:DAYLIGHT
BEGIN:STANDARD
TZOFFSETFROM:+0200
TZOFFSETTO:+0100
TZNAME:CET
DTSTART:20181028T010000
END:STANDARD
BEGIN:DAYLIGHT
TZOFFSETFROM:+0100
TZOFFSETTO:+0200
TZNAME:CEST
DTSTART:20190331T010000
END:DAYLIGHT
BEGIN:STANDARD
TZOFFSETFROM:+0200
TZOFFSETTO:+0100
TZNAME:CET
DTSTART:20191027T010000
END:STANDARD
BEGIN:DAYLIGHT
TZOFFSETFROM:+0100
TZOFFSETTO:+0200
TZNAME:CEST
DTSTART:20200329T010000
END:DAYLIGHT
BEGIN:STANDARD
TZOFFSETFROM:+0200
TZOFFSETTO:+0100
TZNAME:CET
DTSTART:20201025T010000
END:STANDARD
END:VTIMEZONE
BEGIN:VEVENT
DTSTART;TZID=Europe/Paris:20190419T100000
DTEND;TZID=Europe/Paris:20190419T130000
DTSTAMP:20260425T235649
CREATED:20181205T142504Z
LAST-MODIFIED:20190415T123927Z
UID:12979-1555668000-1555678800@sacre.psl.eu
SUMMARY:Séminaire de la formation SACRe au CNSMDP
DESCRIPTION:Intervention de Gérard Pesson\, compositeur\, professeur au Conservatoire de Paris : \nLa fabrique de l’opéra : Trois Contes de Gérard Pesson et David Lescot \nComment se construit une partition et un spectacle\, sur huit années\, à partir d’une commande\, d’une recherche de livret et à travers une écriture croisée entre metteur en scène\, librettiste et compositeur. Journal de l’élaboration et extraits du spectacle créé à l’Opéra de Lille le 6 mars dernier. \nCNSMDP – 209\, avenue Jean Jaurès 75019 Paris – plateau 2\, niveau -2. \nÉvénement réservé aux personnes invitées.
URL:https://sacre.psl.eu/evenements/seminaire-sacre-cnsmdp/
LOCATION:Conservatoire national supérieur de musique et de danse de Paris\, 209\, avenue Jean Jaurès\, Paris\, 75019\, France
CATEGORIES:Evenement,séminaire,Séminaire de la formation doctorale
ATTACH;FMTTYPE=image/jpeg:https://sacre.psl.eu/wp-content/uploads/2018/09/PSL_001450.jpg
END:VEVENT
END:VCALENDAR