BEGIN:VCALENDAR
VERSION:2.0
PRODID:-//SACRe, le Laboratoire - ECPv6.15.15//NONSGML v1.0//EN
CALSCALE:GREGORIAN
METHOD:PUBLISH
X-ORIGINAL-URL:https://sacre.psl.eu
X-WR-CALDESC:Évènements pour SACRe, le Laboratoire
REFRESH-INTERVAL;VALUE=DURATION:PT1H
X-Robots-Tag:noindex
X-PUBLISHED-TTL:PT1H
BEGIN:VTIMEZONE
TZID:Europe/Paris
BEGIN:DAYLIGHT
TZOFFSETFROM:+0100
TZOFFSETTO:+0200
TZNAME:CEST
DTSTART:20180325T010000
END:DAYLIGHT
BEGIN:STANDARD
TZOFFSETFROM:+0200
TZOFFSETTO:+0100
TZNAME:CET
DTSTART:20181028T010000
END:STANDARD
BEGIN:DAYLIGHT
TZOFFSETFROM:+0100
TZOFFSETTO:+0200
TZNAME:CEST
DTSTART:20190331T010000
END:DAYLIGHT
BEGIN:STANDARD
TZOFFSETFROM:+0200
TZOFFSETTO:+0100
TZNAME:CET
DTSTART:20191027T010000
END:STANDARD
BEGIN:DAYLIGHT
TZOFFSETFROM:+0100
TZOFFSETTO:+0200
TZNAME:CEST
DTSTART:20200329T010000
END:DAYLIGHT
BEGIN:STANDARD
TZOFFSETFROM:+0200
TZOFFSETTO:+0100
TZNAME:CET
DTSTART:20201025T010000
END:STANDARD
END:VTIMEZONE
BEGIN:VEVENT
DTSTART;TZID=Europe/Paris:20190614T090000
DTEND;TZID=Europe/Paris:20190614T180000
DTSTAMP:20260425T205224
CREATED:20181205T143115Z
LAST-MODIFIED:20190207T161919Z
UID:12983-1560502800-1560535200@sacre.psl.eu
SUMMARY:Séminaire de la formation SACRe aux Beaux-Arts
DESCRIPTION:Programme à venir.\n\n\nÉvénement réservé aux personnes invitées.
URL:https://sacre.psl.eu/evenements/seminaire-sacre-beaux-arts/
LOCATION:Beaux-Arts de Paris\, 14\, rue Bonaparte\, Paris\, 75006\, France
CATEGORIES:Evenement,séminaire,Séminaire de la formation doctorale
ATTACH;FMTTYPE=image/jpeg:https://sacre.psl.eu/wp-content/uploads/2018/07/bxarts.jpg
END:VEVENT
END:VCALENDAR