BEGIN:VCALENDAR
VERSION:2.0
PRODID:-//SACRe, le Laboratoire - ECPv6.15.15//NONSGML v1.0//EN
CALSCALE:GREGORIAN
METHOD:PUBLISH
X-WR-CALNAME:SACRe, le Laboratoire
X-ORIGINAL-URL:https://sacre.psl.eu
X-WR-CALDESC:Évènements pour SACRe, le Laboratoire
REFRESH-INTERVAL;VALUE=DURATION:PT1H
X-Robots-Tag:noindex
X-PUBLISHED-TTL:PT1H
BEGIN:VTIMEZONE
TZID:Europe/Paris
BEGIN:DAYLIGHT
TZOFFSETFROM:+0100
TZOFFSETTO:+0200
TZNAME:CEST
DTSTART:20180325T010000
END:DAYLIGHT
BEGIN:STANDARD
TZOFFSETFROM:+0200
TZOFFSETTO:+0100
TZNAME:CET
DTSTART:20181028T010000
END:STANDARD
BEGIN:DAYLIGHT
TZOFFSETFROM:+0100
TZOFFSETTO:+0200
TZNAME:CEST
DTSTART:20190331T010000
END:DAYLIGHT
BEGIN:STANDARD
TZOFFSETFROM:+0200
TZOFFSETTO:+0100
TZNAME:CET
DTSTART:20191027T010000
END:STANDARD
BEGIN:DAYLIGHT
TZOFFSETFROM:+0100
TZOFFSETTO:+0200
TZNAME:CEST
DTSTART:20200329T010000
END:DAYLIGHT
BEGIN:STANDARD
TZOFFSETFROM:+0200
TZOFFSETTO:+0100
TZNAME:CET
DTSTART:20201025T010000
END:STANDARD
END:VTIMEZONE
BEGIN:VEVENT
DTSTART;TZID=Europe/Paris:20191213T100000
DTEND;TZID=Europe/Paris:20191213T180000
DTSTAMP:20260425T033825
CREATED:20190701T160820Z
LAST-MODIFIED:20191212T153613Z
UID:13856-1576231200-1576260000@sacre.psl.eu
SUMMARY:REPORTÉ / Séminaire SACRe @ CNSAD
DESCRIPTION:Penser et construire l’hybridité des formats de la recherche-création\n(Séance réservée aux doctorant.e.s du programme SACRe)\n10h-11h45\n\n\nSéminaire performé de Claudia Triozzi à partir de son travail « Pour une thèse vivante » (titre en cours) \n\n\n12h-13h\nAtelier de réflexion\, les doctorant.e.s sont réuni.e.s en groupes de travail pour dégager leurs questions/inquiétudes/réflexions quant à l’hybridité des thèses SACRe (une attention particulière est portée à l’oral de thèse SACRe) \n\n\n14h-14h30\nRetour d’expérience par Jean-Baptiste Lenglet (SACRe-Beaux-Arts) \n\n\n14h30-15h\nRetour d’expérience par Linda Duskova (SACRe-CNSAD) \n\n\n15h15-17h\nExposé de leurs questions/inquiétudes/réflexions par les doctorant.e.s SACRe + table-ronde et échanges libres avec Joseph Danan\, Linda Duskova et Jean-Baptiste Lenglet \n\n\n17h-18h\nSoutenance de thèse blanche par Sacha Todorov (membres du jury : Joseph Danan\, Linda Duskova et Christian Biet)
URL:https://sacre.psl.eu/evenements/seminaire-sacre-cnsad/
LOCATION:Conservatoire national supérieur d’art dramatique\, 2 bis\, rue du Conservatoire\, Paris\, 75009
CATEGORIES:Evenement,séminaire,Séminaire de la formation doctorale
ATTACH;FMTTYPE=image/jpeg:https://sacre.psl.eu/wp-content/uploads/2019/07/PSL_001914.jpg
END:VEVENT
END:VCALENDAR