BEGIN:VCALENDAR
VERSION:2.0
PRODID:-//SACRe, le Laboratoire - ECPv6.15.15//NONSGML v1.0//EN
CALSCALE:GREGORIAN
METHOD:PUBLISH
X-ORIGINAL-URL:https://sacre.psl.eu
X-WR-CALDESC:Évènements pour SACRe, le Laboratoire
REFRESH-INTERVAL;VALUE=DURATION:PT1H
X-Robots-Tag:noindex
X-PUBLISHED-TTL:PT1H
BEGIN:VTIMEZONE
TZID:Europe/Paris
BEGIN:DAYLIGHT
TZOFFSETFROM:+0100
TZOFFSETTO:+0200
TZNAME:CEST
DTSTART:20190331T010000
END:DAYLIGHT
BEGIN:STANDARD
TZOFFSETFROM:+0200
TZOFFSETTO:+0100
TZNAME:CET
DTSTART:20191027T010000
END:STANDARD
BEGIN:DAYLIGHT
TZOFFSETFROM:+0100
TZOFFSETTO:+0200
TZNAME:CEST
DTSTART:20200329T010000
END:DAYLIGHT
BEGIN:STANDARD
TZOFFSETFROM:+0200
TZOFFSETTO:+0100
TZNAME:CET
DTSTART:20201025T010000
END:STANDARD
BEGIN:DAYLIGHT
TZOFFSETFROM:+0100
TZOFFSETTO:+0200
TZNAME:CEST
DTSTART:20210328T010000
END:DAYLIGHT
BEGIN:STANDARD
TZOFFSETFROM:+0200
TZOFFSETTO:+0100
TZNAME:CET
DTSTART:20211031T010000
END:STANDARD
END:VTIMEZONE
BEGIN:VEVENT
DTSTART;VALUE=DATE:20200124
DTEND;VALUE=DATE:20200125
DTSTAMP:20260424T220024
CREATED:20191024T121221Z
LAST-MODIFIED:20200124T105006Z
UID:13970-1579824000-1579910399@sacre.psl.eu
SUMMARY:Séminaire SACRe @ La fémis
DESCRIPTION:Cycle « La fabulation » : Qui est-ce que tu racontes ? (Programme) \nSéance réservée aux doctorant.e.s SACRe mais ouverte sur demande.
URL:https://sacre.psl.eu/evenements/seminaire-sacre-la-femis-2/
LOCATION:La fémis\, 6\, rue Francoeur\, Paris\, 75018\, France
CATEGORIES:Evenement,Séminaire de la formation doctorale
ATTACH;FMTTYPE=image/jpeg:https://sacre.psl.eu/wp-content/uploads/2019/07/PSL_001474.jpg
END:VEVENT
END:VCALENDAR