BEGIN:VCALENDAR
VERSION:2.0
PRODID:-//SACRe, le Laboratoire - ECPv6.15.15//NONSGML v1.0//EN
CALSCALE:GREGORIAN
METHOD:PUBLISH
X-WR-CALNAME:SACRe, le Laboratoire
X-ORIGINAL-URL:https://sacre.psl.eu
X-WR-CALDESC:Évènements pour SACRe, le Laboratoire
REFRESH-INTERVAL;VALUE=DURATION:PT1H
X-Robots-Tag:noindex
X-PUBLISHED-TTL:PT1H
BEGIN:VTIMEZONE
TZID:Europe/Paris
BEGIN:DAYLIGHT
TZOFFSETFROM:+0100
TZOFFSETTO:+0200
TZNAME:CEST
DTSTART:20190331T010000
END:DAYLIGHT
BEGIN:STANDARD
TZOFFSETFROM:+0200
TZOFFSETTO:+0100
TZNAME:CET
DTSTART:20191027T010000
END:STANDARD
BEGIN:DAYLIGHT
TZOFFSETFROM:+0100
TZOFFSETTO:+0200
TZNAME:CEST
DTSTART:20200329T010000
END:DAYLIGHT
BEGIN:STANDARD
TZOFFSETFROM:+0200
TZOFFSETTO:+0100
TZNAME:CET
DTSTART:20201025T010000
END:STANDARD
BEGIN:DAYLIGHT
TZOFFSETFROM:+0100
TZOFFSETTO:+0200
TZNAME:CEST
DTSTART:20210328T010000
END:DAYLIGHT
BEGIN:STANDARD
TZOFFSETFROM:+0200
TZOFFSETTO:+0100
TZNAME:CET
DTSTART:20211031T010000
END:STANDARD
END:VTIMEZONE
BEGIN:VEVENT
DTSTART;VALUE=DATE:20200428
DTEND;VALUE=DATE:20200429
DTSTAMP:20260424T131322
CREATED:20191024T122458Z
LAST-MODIFIED:20200410T081131Z
UID:13978-1588032000-1588118399@sacre.psl.eu
SUMMARY:REPORTÉ / Séminaire SACRe @ Beaux-Arts de Paris
DESCRIPTION:(Programme à venir) \nSéance réservée aux doctorant.e.s du programme SACRe
URL:https://sacre.psl.eu/evenements/seminaire-sacre-beaux-arts-de-paris-2/
LOCATION:Beaux-Arts de Paris\, 14\, rue Bonaparte\, Paris\, 75006\, France
CATEGORIES:Evenement,Séminaire de la formation doctorale
ATTACH;FMTTYPE=image/jpeg:https://sacre.psl.eu/wp-content/uploads/2017/06/cour-du-murier.jpg
END:VEVENT
END:VCALENDAR