BEGIN:VCALENDAR
VERSION:2.0
PRODID:-//SACRe, le Laboratoire - ECPv6.15.15//NONSGML v1.0//EN
CALSCALE:GREGORIAN
METHOD:PUBLISH
X-ORIGINAL-URL:https://sacre.psl.eu
X-WR-CALDESC:Évènements pour SACRe, le Laboratoire
REFRESH-INTERVAL;VALUE=DURATION:PT1H
X-Robots-Tag:noindex
X-PUBLISHED-TTL:PT1H
BEGIN:VTIMEZONE
TZID:Europe/Paris
BEGIN:DAYLIGHT
TZOFFSETFROM:+0100
TZOFFSETTO:+0200
TZNAME:CEST
DTSTART:20190331T010000
END:DAYLIGHT
BEGIN:STANDARD
TZOFFSETFROM:+0200
TZOFFSETTO:+0100
TZNAME:CET
DTSTART:20191027T010000
END:STANDARD
BEGIN:DAYLIGHT
TZOFFSETFROM:+0100
TZOFFSETTO:+0200
TZNAME:CEST
DTSTART:20200329T010000
END:DAYLIGHT
BEGIN:STANDARD
TZOFFSETFROM:+0200
TZOFFSETTO:+0100
TZNAME:CET
DTSTART:20201025T010000
END:STANDARD
BEGIN:DAYLIGHT
TZOFFSETFROM:+0100
TZOFFSETTO:+0200
TZNAME:CEST
DTSTART:20210328T010000
END:DAYLIGHT
BEGIN:STANDARD
TZOFFSETFROM:+0200
TZOFFSETTO:+0100
TZNAME:CET
DTSTART:20211031T010000
END:STANDARD
END:VTIMEZONE
BEGIN:VEVENT
DTSTART;TZID=Europe/Paris:20201204T090000
DTEND;TZID=Europe/Paris:20201204T170000
DTSTAMP:20260423T080607
CREATED:20200828T140444Z
LAST-MODIFIED:20200828T140444Z
UID:14950-1607072400-1607101200@sacre.psl.eu
SUMMARY:Séminaire de la formation @ CNSAD
DESCRIPTION:Séminaire réservé aux doctorant.e.s de la formation SACRe.
URL:https://sacre.psl.eu/evenements/seminaire-de-la-formation-cnsad/
LOCATION:Conservatoire national supérieur d’art dramatique\, 2 bis\, rue du Conservatoire\, Paris\, 75009
CATEGORIES:Evenement,Séminaire de la formation doctorale
ATTACH;FMTTYPE=image/jpeg:https://sacre.psl.eu/wp-content/uploads/2019/07/PSL_001914.jpg
END:VEVENT
BEGIN:VEVENT
DTSTART;TZID=Europe/Paris:20201211T090000
DTEND;TZID=Europe/Paris:20201211T170000
DTSTAMP:20260423T080607
CREATED:20200828T140725Z
LAST-MODIFIED:20200828T140725Z
UID:14952-1607677200-1607706000@sacre.psl.eu
SUMMARY:Séminaire de la formation @ La Fémis
DESCRIPTION:Séminaire réservé aux doctorant.e.s de la formation SACRe.
URL:https://sacre.psl.eu/evenements/seminaire-de-la-formation-la-femis/
LOCATION:La Fémis\, 6\, rue Francoeur\, Paris\, 75018\, France
CATEGORIES:Evenement,Séminaire de la formation doctorale
ATTACH;FMTTYPE=image/jpeg:https://sacre.psl.eu/wp-content/uploads/2018/07/femis-entree.jpg
END:VEVENT
END:VCALENDAR