BEGIN:VCALENDAR
VERSION:2.0
PRODID:-//SACRe, le Laboratoire - ECPv6.15.15//NONSGML v1.0//EN
CALSCALE:GREGORIAN
METHOD:PUBLISH
X-WR-CALNAME:SACRe, le Laboratoire
X-ORIGINAL-URL:https://sacre.psl.eu
X-WR-CALDESC:Évènements pour SACRe, le Laboratoire
REFRESH-INTERVAL;VALUE=DURATION:PT1H
X-Robots-Tag:noindex
X-PUBLISHED-TTL:PT1H
BEGIN:VTIMEZONE
TZID:Europe/Paris
BEGIN:DAYLIGHT
TZOFFSETFROM:+0100
TZOFFSETTO:+0200
TZNAME:CEST
DTSTART:20200329T010000
END:DAYLIGHT
BEGIN:STANDARD
TZOFFSETFROM:+0200
TZOFFSETTO:+0100
TZNAME:CET
DTSTART:20201025T010000
END:STANDARD
BEGIN:DAYLIGHT
TZOFFSETFROM:+0100
TZOFFSETTO:+0200
TZNAME:CEST
DTSTART:20210328T010000
END:DAYLIGHT
BEGIN:STANDARD
TZOFFSETFROM:+0200
TZOFFSETTO:+0100
TZNAME:CET
DTSTART:20211031T010000
END:STANDARD
BEGIN:DAYLIGHT
TZOFFSETFROM:+0100
TZOFFSETTO:+0200
TZNAME:CEST
DTSTART:20220327T010000
END:DAYLIGHT
BEGIN:STANDARD
TZOFFSETFROM:+0200
TZOFFSETTO:+0100
TZNAME:CET
DTSTART:20221030T010000
END:STANDARD
END:VTIMEZONE
BEGIN:VEVENT
DTSTART;TZID=Europe/Paris:20210219T090000
DTEND;TZID=Europe/Paris:20210219T170000
DTSTAMP:20260422T004238
CREATED:20200828T145746Z
LAST-MODIFIED:20200828T145746Z
UID:14956-1613725200-1613754000@sacre.psl.eu
SUMMARY:Séminaire de la formation @ La Fémis
DESCRIPTION:Séminaire réservé aux doctorant.e.s de la formation SACRe.
URL:https://sacre.psl.eu/evenements/seminaire-de-la-formation-la-femis-2/
LOCATION:La Fémis\, 6\, rue Francoeur\, Paris\, 75018\, France
CATEGORIES:Evenement,Séminaire de la formation doctorale
ATTACH;FMTTYPE=image/jpeg:https://sacre.psl.eu/wp-content/uploads/2018/07/femis-entree.jpg
END:VEVENT
END:VCALENDAR