BEGIN:VCALENDAR
VERSION:2.0
PRODID:-//SACRe, le Laboratoire - ECPv6.15.15//NONSGML v1.0//EN
CALSCALE:GREGORIAN
METHOD:PUBLISH
X-ORIGINAL-URL:https://sacre.psl.eu
X-WR-CALDESC:Évènements pour SACRe, le Laboratoire
REFRESH-INTERVAL;VALUE=DURATION:PT1H
X-Robots-Tag:noindex
X-PUBLISHED-TTL:PT1H
BEGIN:VTIMEZONE
TZID:Europe/Paris
BEGIN:DAYLIGHT
TZOFFSETFROM:+0100
TZOFFSETTO:+0200
TZNAME:CEST
DTSTART:20200329T010000
END:DAYLIGHT
BEGIN:STANDARD
TZOFFSETFROM:+0200
TZOFFSETTO:+0100
TZNAME:CET
DTSTART:20201025T010000
END:STANDARD
BEGIN:DAYLIGHT
TZOFFSETFROM:+0100
TZOFFSETTO:+0200
TZNAME:CEST
DTSTART:20210328T010000
END:DAYLIGHT
BEGIN:STANDARD
TZOFFSETFROM:+0200
TZOFFSETTO:+0100
TZNAME:CET
DTSTART:20211031T010000
END:STANDARD
BEGIN:DAYLIGHT
TZOFFSETFROM:+0100
TZOFFSETTO:+0200
TZNAME:CEST
DTSTART:20220327T010000
END:DAYLIGHT
BEGIN:STANDARD
TZOFFSETFROM:+0200
TZOFFSETTO:+0100
TZNAME:CET
DTSTART:20221030T010000
END:STANDARD
END:VTIMEZONE
BEGIN:VEVENT
DTSTART;TZID=Europe/Paris:20210507T140000
DTEND;TZID=Europe/Paris:20210507T180000
DTSTAMP:20260421T135433
CREATED:20210503T161232Z
LAST-MODIFIED:20210503T161232Z
UID:15041-1620396000-1620410400@sacre.psl.eu
SUMMARY:Séminaire de la formation @ Beaux-Arts de Paris [En ligne]
DESCRIPTION:Séminaire réservé aux doctorant.e.s de la formation SACRe. \nProgramme du séminaire : \nOù se loge la théorie dans l’art ? dans « le dedans du dehors » \nLe quatrième volet de la thématique Où se loge la théorie dans l’art ? propose de poursuivre une cartographie du « Où » et d’interroger le rapport des œuvres au monde qui les entoure. \nUne œuvre d’art est à la fois expression de la subjectivité de l’artiste et expression de son inscription dans le monde. C’est cette double dimension et la manière dont ces deux dimensions dialoguent qui nous préoccupera. Ouverture à l’être et au monde\, l’œuvre d’art devient un outil autre de saisie du monde. \nComment des formes\, des expérimentations artistiques et militantes peuvent porter en elles des effets théoriques ? Comment s’incarnent de nouvelles expériences de pensées ? \n  \n14h00 – Introduction \nClaire Garcia\, responsable du 3e cycle par intérim. \n  \n14h10 -14h30 S’engager dans le dehors \nFabrice Bourlez\, enseignant en écoles d’art et à Sciences Po\, co-responsable de la chaire Troubles\, dissidences et esthétiques aux Beaux-Arts de Paris\, et psychanalyste \n  \n14h35-14h55 De la co-construction à la reconstruction : enjeux intersectionnels d’un terrain performatif en espace de protection (safe space) \nMadeleine Planeix-Crocker\, doctorante\, EHESS (CRAL) / Curatrice associée\, Lafayette Anticipations \n  \n15h00-15h20 Record \nSteve Van den Bosch\, artiste docteur en Arts \n  \n[PAUSE] \n  \n15h35-15h55 Le message\, c’est l’odeur: le parfum est-il un média? \nAntoine Renard\, artiste doctorant SACRe/ Beaux-Arts de Paris \n  \n16h00-16h20 Quand la nature imite l’art : la notation musicale des chants d’oiseaux dans les carnets de voyage d’Olivier Messiaen \nFabrice Guédy\, compositeur\, enseignant\, directeur musical de l’Atelier des Feuillantines \n  \n16h30 Table ronde autour de l’articulation art / théorie  \nModération : Etienne Chambaud\, artiste doctorant SACRe / Beaux-Arts de Paris et Claire Garcia
URL:https://sacre.psl.eu/evenements/seminaire-de-la-formation-beaux-arts-de-paris-en-ligne/
LOCATION:En ligne
CATEGORIES:séminaire,Séminaire de la formation doctorale
ATTACH;FMTTYPE=image/jpeg:https://sacre.psl.eu/wp-content/uploads/2017/06/cour-du-murier.jpg
END:VEVENT
BEGIN:VEVENT
DTSTART;TZID=Europe/Paris:20210521T093000
DTEND;TZID=Europe/Paris:20210521T130000
DTSTAMP:20260421T135433
CREATED:20200828T152207Z
LAST-MODIFIED:20210518T151511Z
UID:14967-1621589400-1621602000@sacre.psl.eu
SUMMARY:Séminaire de la formation @EnsAD
DESCRIPTION:Séminaire réservé aux doctorant.e.s de la formation SACRe.
URL:https://sacre.psl.eu/evenements/journee-detudes-de-lunite/
LOCATION:En ligne
CATEGORIES:Evenement,séminaire,Séminaire de la formation doctorale
ATTACH;FMTTYPE=image/jpeg:https://sacre.psl.eu/wp-content/uploads/2019/07/PSL_002158.jpg
END:VEVENT
END:VCALENDAR