BEGIN:VCALENDAR
VERSION:2.0
PRODID:-//SACRe, le Laboratoire - ECPv6.15.15//NONSGML v1.0//EN
CALSCALE:GREGORIAN
METHOD:PUBLISH
X-WR-CALNAME:SACRe, le Laboratoire
X-ORIGINAL-URL:https://sacre.psl.eu
X-WR-CALDESC:Évènements pour SACRe, le Laboratoire
REFRESH-INTERVAL;VALUE=DURATION:PT1H
X-Robots-Tag:noindex
X-PUBLISHED-TTL:PT1H
BEGIN:VTIMEZONE
TZID:Europe/Paris
BEGIN:DAYLIGHT
TZOFFSETFROM:+0100
TZOFFSETTO:+0200
TZNAME:CEST
DTSTART:20200329T010000
END:DAYLIGHT
BEGIN:STANDARD
TZOFFSETFROM:+0200
TZOFFSETTO:+0100
TZNAME:CET
DTSTART:20201025T010000
END:STANDARD
BEGIN:DAYLIGHT
TZOFFSETFROM:+0100
TZOFFSETTO:+0200
TZNAME:CEST
DTSTART:20210328T010000
END:DAYLIGHT
BEGIN:STANDARD
TZOFFSETFROM:+0200
TZOFFSETTO:+0100
TZNAME:CET
DTSTART:20211031T010000
END:STANDARD
BEGIN:DAYLIGHT
TZOFFSETFROM:+0100
TZOFFSETTO:+0200
TZNAME:CEST
DTSTART:20220327T010000
END:DAYLIGHT
BEGIN:STANDARD
TZOFFSETFROM:+0200
TZOFFSETTO:+0100
TZNAME:CET
DTSTART:20221030T010000
END:STANDARD
END:VTIMEZONE
BEGIN:VEVENT
DTSTART;TZID=Europe/Paris:20210604T093000
DTEND;TZID=Europe/Paris:20210604T170000
DTSTAMP:20260421T123656
CREATED:20200828T151908Z
LAST-MODIFIED:20210521T142242Z
UID:14965-1622799000-1622826000@sacre.psl.eu
SUMMARY:Séminaire de la formation - Assemblée Générale SACRe @ ENS
DESCRIPTION:Séminaire réservé aux doctorant.e.s de la formation SACRe. \n  \nSéminaire doctoral SACRe \nVendredi 4 juin 2021  \nENS\, salle Dussane (entrée par le 45 rue d’Ulm) \n  \n*** \n9h30-13h15 – Travaux et projections \n9h30 :  Accueil et présentation\, par Antoine de Baecque \n9h45 :  « S’approprier la cybernétique : retour sur l’exposition « Cybernetics of the poor » (2021\, Kunsthalle Wien) »\, par Mathieu Garling (SACRe/ENS) \n10h30 :  Regard contre regard (10′)\, Voyage à Maiori (travail en cours\, 10′)\, présentation par Anouk Phéline (SACRe/ENS) \n  \n[11h15 : Pause] \n  \n11h30\, Nous sommes deux drôles (26’)\, présentation par Arthur Bart (SACRe/ENS) \n12h15\, Forensickness (40’)\, présentation par Chloé Galibert-Laîné (SACRe/ENS) \n  \n[13h15 – 14h30 : Pause déjeuner] \n  \n14h 30 – Assemblée générale des doctorant.e.s SACRe
URL:https://sacre.psl.eu/evenements/seminaire-de-la-formation-lieu-a-definir-3/
LOCATION:ENS – Salle Dussane\, 45\, rue d'Ulm\, Paris\, 75006
CATEGORIES:Evenement,Séminaire de la formation doctorale
ATTACH;FMTTYPE=image/jpeg:https://sacre.psl.eu/wp-content/uploads/2018/07/PSL_ens-cour-aux-ernests.jpg
END:VEVENT
END:VCALENDAR